Package: BOBaFIT Version: 1.11.0 Command: /Library/Frameworks/R.framework/Resources/bin/R CMD INSTALL BOBaFIT StartedAt: 2025-02-12 15:17:16 -0500 (Wed, 12 Feb 2025) EndedAt: 2025-02-12 15:17:38 -0500 (Wed, 12 Feb 2025) EllapsedTime: 21.5 seconds RetCode: 0 Status: OK