Package: BOBaFIT Version: 1.11.0 Command: /Library/Frameworks/R.framework/Resources/bin/R CMD build --keep-empty-dirs --no-resave-data BOBaFIT StartedAt: 2025-02-09 16:06:41 -0500 (Sun, 09 Feb 2025) EndedAt: 2025-02-09 16:08:20 -0500 (Sun, 09 Feb 2025) EllapsedTime: 98.1 seconds RetCode: 0 Status: OK PackageFile: BOBaFIT_1.11.0.tar.gz PackageFileSize: 2.498 MiB