Package: BOBaFIT Version: 1.11.0 Command: /Library/Frameworks/R.framework/Resources/bin/R CMD INSTALL BOBaFIT StartedAt: 2025-02-12 15:28:53 -0500 (Wed, 12 Feb 2025) EndedAt: 2025-02-12 15:30:02 -0500 (Wed, 12 Feb 2025) EllapsedTime: 69.3 seconds RetCode: 0 Status: OK