Package: BOBaFIT Version: 1.11.0 Command: /home/biocbuild/bbs-3.21-bioc/R/bin/R CMD check --install=check:BOBaFIT.install-out.txt --library=/home/biocbuild/bbs-3.21-bioc/R/site-library --timings BOBaFIT_1.11.0.tar.gz StartedAt: 2025-02-09 20:31:54 -0500 (Sun, 09 Feb 2025) EndedAt: 2025-02-09 20:40:02 -0500 (Sun, 09 Feb 2025) EllapsedTime: 487.7 seconds RetCode: 0 Status: WARNINGS CheckDir: BOBaFIT.Rcheck Warnings: 1