Package: BOBaFIT Version: 1.11.0 Command: rm -rf BOBaFIT.buildbin-libdir && mkdir BOBaFIT.buildbin-libdir && E:\biocbuild\bbs-3.21-bioc\R\bin\R.exe CMD INSTALL --build --library=BOBaFIT.buildbin-libdir BOBaFIT_1.11.0.tar.gz StartedAt: 2025-02-10 07:20:35 -0500 (Mon, 10 Feb 2025) EndedAt: 2025-02-10 07:21:30 -0500 (Mon, 10 Feb 2025) EllapsedTime: 54.8 seconds RetCode: 0 Status: OK PackageFile: BOBaFIT_1.11.0.zip PackageFileSize: 2.447 MiB