Package: BRAIN Version: 1.53.0 Command: /Library/Frameworks/R.framework/Resources/bin/R CMD check --install=check:BRAIN.install-out.txt --library=/Library/Frameworks/R.framework/Resources/library --no-vignettes --timings BRAIN_1.53.0.tar.gz StartedAt: 2025-02-12 18:20:37 -0500 (Wed, 12 Feb 2025) EndedAt: 2025-02-12 18:20:57 -0500 (Wed, 12 Feb 2025) EllapsedTime: 20.2 seconds RetCode: 0 Status: WARNINGS CheckDir: BRAIN.Rcheck Warnings: 2