Package: BRAIN Version: 1.53.0 Command: /home/biocbuild/R/R/bin/R CMD build --keep-empty-dirs --no-resave-data BRAIN StartedAt: 2025-01-28 21:27:06 -0000 (Tue, 28 Jan 2025) EndedAt: 2025-01-28 21:27:30 -0000 (Tue, 28 Jan 2025) EllapsedTime: 24.0 seconds RetCode: 0 Status: OK PackageFile: BRAIN_1.53.0.tar.gz PackageFileSize: 2.021 MiB