Package: BRAIN Version: 1.53.0 Command: /home/biocbuild/R/R/bin/R CMD check --install=check:BRAIN.install-out.txt --library=/home/biocbuild/R/R/site-library --no-vignettes --timings BRAIN_1.53.0.tar.gz StartedAt: 2025-01-28 08:39:55 -0000 (Tue, 28 Jan 2025) EndedAt: 2025-01-28 08:47:11 -0000 (Tue, 28 Jan 2025) EllapsedTime: 435.9 seconds RetCode: 0 Status: WARNINGS CheckDir: BRAIN.Rcheck Warnings: 2