Package: BRAIN Version: 1.53.0 Command: rm -rf BRAIN.buildbin-libdir && mkdir BRAIN.buildbin-libdir && /Users/biocbuild/BBS/utils/build-universal.sh BRAIN_1.53.0.tar.gz /Library/Frameworks/R.framework/Resources/bin/R BRAIN.buildbin-libdir StartedAt: 2025-02-10 00:44:32 -0500 (Mon, 10 Feb 2025) EndedAt: 2025-02-10 00:44:49 -0500 (Mon, 10 Feb 2025) EllapsedTime: 17.1 seconds RetCode: 0 Status: OK PackageFile: BRAIN_1.53.0.tgz PackageFileSize: 2.054 MiB