Package: BRAIN Version: 1.53.0 Command: /Library/Frameworks/R.framework/Resources/bin/R CMD check --install=check:BRAIN.install-out.txt --library=/Library/Frameworks/R.framework/Resources/library --no-vignettes --timings BRAIN_1.53.0.tar.gz StartedAt: 2025-02-09 19:27:36 -0500 (Sun, 09 Feb 2025) EndedAt: 2025-02-09 19:29:39 -0500 (Sun, 09 Feb 2025) EllapsedTime: 123.3 seconds RetCode: 0 Status: WARNINGS CheckDir: BRAIN.Rcheck Warnings: 2