Package: BRAIN Version: 1.53.0 Command: /home/biocbuild/bbs-3.21-bioc/R/bin/R CMD build --keep-empty-dirs --no-resave-data BRAIN StartedAt: 2025-02-12 16:24:58 -0500 (Wed, 12 Feb 2025) EndedAt: 2025-02-12 16:25:17 -0500 (Wed, 12 Feb 2025) EllapsedTime: 19.0 seconds RetCode: 0 Status: OK PackageFile: BRAIN_1.53.0.tar.gz PackageFileSize: 2.009 MiB