Package: BRAIN Version: 1.53.0 Command: /home/biocbuild/bbs-3.21-bioc/R/bin/R CMD check --install=check:BRAIN.install-out.txt --library=/home/biocbuild/bbs-3.21-bioc/R/site-library --timings BRAIN_1.53.0.tar.gz StartedAt: 2025-02-09 20:32:55 -0500 (Sun, 09 Feb 2025) EndedAt: 2025-02-09 20:33:46 -0500 (Sun, 09 Feb 2025) EllapsedTime: 51.2 seconds RetCode: 0 Status: WARNINGS CheckDir: BRAIN.Rcheck Warnings: 2