Package: BRAIN Version: 1.53.0 Command: /home/biocbuild/bbs-3.21-bioc/R/bin/R CMD INSTALL BRAIN StartedAt: 2025-02-09 15:24:10 -0500 (Sun, 09 Feb 2025) EndedAt: 2025-02-09 15:24:21 -0500 (Sun, 09 Feb 2025) EllapsedTime: 10.5 seconds RetCode: 0 Status: OK