Package: BRAIN Version: 1.53.0 Command: rm -rf BRAIN.buildbin-libdir && mkdir BRAIN.buildbin-libdir && E:\biocbuild\bbs-3.21-bioc\R\bin\R.exe CMD INSTALL --build --library=BRAIN.buildbin-libdir BRAIN_1.53.0.tar.gz StartedAt: 2025-02-10 07:20:40 -0500 (Mon, 10 Feb 2025) EndedAt: 2025-02-10 07:20:57 -0500 (Mon, 10 Feb 2025) EllapsedTime: 17.1 seconds RetCode: 0 Status: OK PackageFile: BRAIN_1.53.0.zip PackageFileSize: 1.945 MiB