Package: BRAIN Version: 1.53.0 Command: chmod a+r BRAIN -R && E:\biocbuild\bbs-3.21-bioc\R\bin\R.exe CMD build --keep-empty-dirs --no-resave-data BRAIN StartedAt: 2025-02-09 17:34:37 -0500 (Sun, 09 Feb 2025) EndedAt: 2025-02-09 17:35:03 -0500 (Sun, 09 Feb 2025) EllapsedTime: 26.0 seconds RetCode: 0 Status: OK PackageFile: BRAIN_1.53.0.tar.gz PackageFileSize: 1.901 MiB