Package: BRAIN Version: 1.53.0 Command: E:\biocbuild\bbs-3.21-bioc\R\bin\R.exe CMD check --no-multiarch --install=check:BRAIN.install-out.txt --library=E:\biocbuild\bbs-3.21-bioc\R\library --no-vignettes --timings BRAIN_1.53.0.tar.gz StartedAt: 2025-02-09 23:12:21 -0500 (Sun, 09 Feb 2025) EndedAt: 2025-02-09 23:13:18 -0500 (Sun, 09 Feb 2025) EllapsedTime: 57.0 seconds RetCode: 0 Status: WARNINGS CheckDir: BRAIN.Rcheck Warnings: 2