Package: BREW3R.r Version: 1.3.0 Command: /Library/Frameworks/R.framework/Resources/bin/R CMD INSTALL BREW3R.r StartedAt: 2025-02-09 15:04:22 -0500 (Sun, 09 Feb 2025) EndedAt: 2025-02-09 15:04:26 -0500 (Sun, 09 Feb 2025) EllapsedTime: 4.1 seconds RetCode: 0 Status: OK