Package: BREW3R.r Version: 1.3.0 Command: /Library/Frameworks/R.framework/Resources/bin/R CMD build --keep-empty-dirs --no-resave-data BREW3R.r StartedAt: 2025-02-09 16:07:26 -0500 (Sun, 09 Feb 2025) EndedAt: 2025-02-09 16:08:02 -0500 (Sun, 09 Feb 2025) EllapsedTime: 36.6 seconds RetCode: 0 Status: OK PackageFile: BREW3R.r_1.3.0.tar.gz PackageFileSize: 1.901 MiB