Package: BREW3R.r Version: 1.3.0 Command: /home/biocbuild/bbs-3.21-bioc/R/bin/R CMD check --install=check:BREW3R.r.install-out.txt --library=/home/biocbuild/bbs-3.21-bioc/R/site-library --timings BREW3R.r_1.3.0.tar.gz StartedAt: 2025-02-12 20:30:12 -0500 (Wed, 12 Feb 2025) EndedAt: 2025-02-12 20:32:06 -0500 (Wed, 12 Feb 2025) EllapsedTime: 113.2 seconds RetCode: 0 Status: OK CheckDir: BREW3R.r.Rcheck Warnings: 0