Package: BSgenomeForge Version: 1.7.0 Command: /home/biocbuild/R/R/bin/R CMD check --install=check:BSgenomeForge.install-out.txt --library=/home/biocbuild/R/R/site-library --no-vignettes --timings BSgenomeForge_1.7.0.tar.gz StartedAt: 2025-01-28 08:47:41 -0000 (Tue, 28 Jan 2025) EndedAt: 2025-01-28 08:54:22 -0000 (Tue, 28 Jan 2025) EllapsedTime: 400.3 seconds RetCode: 0 Status: OK CheckDir: BSgenomeForge.Rcheck Warnings: 0