Package: BSgenomeForge Version: 1.7.0 Command: rm -rf BSgenomeForge.buildbin-libdir && mkdir BSgenomeForge.buildbin-libdir && /Users/biocbuild/BBS/utils/build-universal.sh BSgenomeForge_1.7.0.tar.gz /Library/Frameworks/R.framework/Resources/bin/R BSgenomeForge.buildbin-libdir StartedAt: 2025-02-13 00:27:58 -0500 (Thu, 13 Feb 2025) EndedAt: 2025-02-13 00:28:44 -0500 (Thu, 13 Feb 2025) EllapsedTime: 46.0 seconds RetCode: 0 Status: OK PackageFile: BSgenomeForge_1.7.0.tgz PackageFileSize: 809.7 KiB