Package: BSgenomeForge Version: 1.7.0 Command: /Library/Frameworks/R.framework/Resources/bin/R CMD INSTALL BSgenomeForge StartedAt: 2025-02-12 15:22:50 -0500 (Wed, 12 Feb 2025) EndedAt: 2025-02-12 15:23:34 -0500 (Wed, 12 Feb 2025) EllapsedTime: 44.4 seconds RetCode: 0 Status: OK