Package: BSgenomeForge Version: 1.7.0 Command: /home/biocbuild/bbs-3.21-bioc/R/bin/R CMD check --install=check:BSgenomeForge.install-out.txt --library=/home/biocbuild/bbs-3.21-bioc/R/site-library --timings BSgenomeForge_1.7.0.tar.gz StartedAt: 2025-02-12 20:30:37 -0500 (Wed, 12 Feb 2025) EndedAt: 2025-02-12 20:35:26 -0500 (Wed, 12 Feb 2025) EllapsedTime: 289.4 seconds RetCode: 0 Status: OK CheckDir: BSgenomeForge.Rcheck Warnings: 0