Package: BSgenomeForge Version: 1.7.0 Command: chmod a+r BSgenomeForge -R && E:\biocbuild\bbs-3.21-bioc\R\bin\R.exe CMD build --keep-empty-dirs --no-resave-data BSgenomeForge StartedAt: 2025-02-09 17:35:58 -0500 (Sun, 09 Feb 2025) EndedAt: 2025-02-09 17:38:13 -0500 (Sun, 09 Feb 2025) EllapsedTime: 135.7 seconds RetCode: 0 Status: OK PackageFile: BSgenomeForge_1.7.0.tar.gz PackageFileSize: 456 KiB