Package: BSgenomeForge Version: 1.7.0 Command: E:\biocbuild\bbs-3.21-bioc\R\bin\R.exe CMD check --no-multiarch --install=check:BSgenomeForge.install-out.txt --library=E:\biocbuild\bbs-3.21-bioc\R\library --no-vignettes --timings BSgenomeForge_1.7.0.tar.gz StartedAt: 2025-02-09 23:15:37 -0500 (Sun, 09 Feb 2025) EndedAt: 2025-02-09 23:20:34 -0500 (Sun, 09 Feb 2025) EllapsedTime: 296.6 seconds RetCode: 1 Status: ERROR CheckDir: BSgenomeForge.Rcheck Warnings: NA