Package: BUSpaRse Version: 1.21.0 Command: /Library/Frameworks/R.framework/Resources/bin/R CMD build --keep-empty-dirs --no-resave-data BUSpaRse StartedAt: 2025-02-09 15:45:51 -0500 (Sun, 09 Feb 2025) EndedAt: 2025-02-09 15:47:52 -0500 (Sun, 09 Feb 2025) EllapsedTime: 120.3 seconds RetCode: 0 Status: OK PackageFile: BUSpaRse_1.21.0.tar.gz PackageFileSize: 578.4 KiB