Package: BUSpaRse Version: 1.21.0 Command: rm -rf BUSpaRse.buildbin-libdir && mkdir BUSpaRse.buildbin-libdir && /Users/biocbuild/BBS/utils/build-universal.sh BUSpaRse_1.21.0.tar.gz /Library/Frameworks/R.framework/Resources/bin/R BUSpaRse.buildbin-libdir StartedAt: 2025-02-05 00:31:19 -0500 (Wed, 05 Feb 2025) EndedAt: 2025-02-05 00:32:36 -0500 (Wed, 05 Feb 2025) EllapsedTime: 77.3 seconds RetCode: 0 Status: OK PackageFile: BUSpaRse_1.21.0.tgz PackageFileSize: 846.1 KiB