Package: BUSpaRse Version: 1.21.0 Command: /Library/Frameworks/R.framework/Resources/bin/R CMD build --keep-empty-dirs --no-resave-data BUSpaRse StartedAt: 2025-02-04 16:05:39 -0500 (Tue, 04 Feb 2025) EndedAt: 2025-02-04 16:08:57 -0500 (Tue, 04 Feb 2025) EllapsedTime: 197.4 seconds RetCode: 0 Status: OK PackageFile: BUSpaRse_1.21.0.tar.gz PackageFileSize: 578.3 KiB