Package: BUSpaRse Version: 1.21.0 Command: /home/biocbuild/bbs-3.21-bioc/R/bin/R CMD build --keep-empty-dirs --no-resave-data BUSpaRse StartedAt: 2025-02-09 16:29:41 -0500 (Sun, 09 Feb 2025) EndedAt: 2025-02-09 16:32:07 -0500 (Sun, 09 Feb 2025) EllapsedTime: 146.2 seconds RetCode: 1 Status: ERROR PackageFile: None PackageFileSize: NA