Package: BUSpaRse Version: 1.21.0 Command: /home/biocbuild/bbs-3.21-bioc/R/bin/R CMD check --install=check:BUSpaRse.install-out.txt --library=/home/biocbuild/bbs-3.21-bioc/R/site-library --timings BUSpaRse_1.21.0.tar.gz StartedAt: 2025-02-05 20:36:25 -0500 (Wed, 05 Feb 2025) EndedAt: 2025-02-05 20:45:52 -0500 (Wed, 05 Feb 2025) EllapsedTime: 567.7 seconds RetCode: 0 Status: OK CheckDir: BUSpaRse.Rcheck Warnings: 0