Package: BUSpaRse Version: 1.21.0 Command: /home/biocbuild/bbs-3.21-bioc/R/bin/R CMD INSTALL BUSpaRse StartedAt: 2025-02-09 15:39:06 -0500 (Sun, 09 Feb 2025) EndedAt: 2025-02-09 15:40:06 -0500 (Sun, 09 Feb 2025) EllapsedTime: 59.8 seconds RetCode: 0 Status: OK