Package: BUSpaRse Version: 1.21.0 Command: chmod a+r BUSpaRse -R && E:\biocbuild\bbs-3.21-bioc\R\bin\R.exe CMD build --keep-empty-dirs --no-resave-data BUSpaRse StartedAt: 2025-02-04 17:34:57 -0500 (Tue, 04 Feb 2025) EndedAt: 2025-02-04 17:39:40 -0500 (Tue, 04 Feb 2025) EllapsedTime: 282.8 seconds RetCode: 0 Status: OK PackageFile: BUSpaRse_1.21.0.tar.gz PackageFileSize: 556.2 KiB