Package: BaalChIP Version: 1.33.0 Command: /Library/Frameworks/R.framework/Resources/bin/R CMD INSTALL BaalChIP StartedAt: 2025-02-04 15:08:22 -0500 (Tue, 04 Feb 2025) EndedAt: 2025-02-04 15:08:49 -0500 (Tue, 04 Feb 2025) EllapsedTime: 26.9 seconds RetCode: 0 Status: OK