Package: BaalChIP Version: 1.33.0 Command: /home/biocbuild/R/R/bin/R CMD build --keep-empty-dirs --no-resave-data BaalChIP StartedAt: 2025-01-29 20:56:42 -0000 (Wed, 29 Jan 2025) EndedAt: 2025-01-29 20:59:48 -0000 (Wed, 29 Jan 2025) EllapsedTime: 186.1 seconds RetCode: 0 Status: OK PackageFile: BaalChIP_1.33.0.tar.gz PackageFileSize: 44.89 MiB