Package: BaalChIP Version: 1.33.0 Command: /home/biocbuild/R/R/bin/R CMD INSTALL BaalChIP StartedAt: 2025-01-29 19:47:54 -0000 (Wed, 29 Jan 2025) EndedAt: 2025-01-29 19:49:30 -0000 (Wed, 29 Jan 2025) EllapsedTime: 96.8 seconds RetCode: 0 Status: OK