Package: BaalChIP Version: 1.33.0 Command: /Library/Frameworks/R.framework/Resources/bin/R CMD build --keep-empty-dirs --no-resave-data BaalChIP StartedAt: 2025-02-04 15:54:03 -0500 (Tue, 04 Feb 2025) EndedAt: 2025-02-04 15:56:15 -0500 (Tue, 04 Feb 2025) EllapsedTime: 132.3 seconds RetCode: 0 Status: OK PackageFile: BaalChIP_1.33.0.tar.gz PackageFileSize: 45.31 MiB