Package: BaalChIP Version: 1.33.0 Command: /Library/Frameworks/R.framework/Resources/bin/R CMD check --install=check:BaalChIP.install-out.txt --library=/Library/Frameworks/R.framework/Resources/library --no-vignettes --timings BaalChIP_1.33.0.tar.gz StartedAt: 2025-02-04 18:58:27 -0500 (Tue, 04 Feb 2025) EndedAt: 2025-02-04 19:08:44 -0500 (Tue, 04 Feb 2025) EllapsedTime: 617.7 seconds RetCode: 0 Status: WARNINGS CheckDir: BaalChIP.Rcheck Warnings: 1