Package: BaalChIP Version: 1.33.0 Command: /home/biocbuild/bbs-3.21-bioc/R/bin/R CMD build --keep-empty-dirs --no-resave-data BaalChIP StartedAt: 2025-02-09 16:12:41 -0500 (Sun, 09 Feb 2025) EndedAt: 2025-02-09 16:14:43 -0500 (Sun, 09 Feb 2025) EllapsedTime: 122.1 seconds RetCode: 0 Status: OK PackageFile: BaalChIP_1.33.0.tar.gz PackageFileSize: 45.23 MiB