Package: BaalChIP Version: 1.33.0 Command: /home/biocbuild/bbs-3.21-bioc/R/bin/R CMD check --install=check:BaalChIP.install-out.txt --library=/home/biocbuild/bbs-3.21-bioc/R/site-library --timings BaalChIP_1.33.0.tar.gz StartedAt: 2025-02-12 20:02:59 -0500 (Wed, 12 Feb 2025) EndedAt: 2025-02-12 20:13:27 -0500 (Wed, 12 Feb 2025) EllapsedTime: 628.7 seconds RetCode: 0 Status: WARNINGS CheckDir: BaalChIP.Rcheck Warnings: 1