Package: BaalChIP Version: 1.33.0 Command: chmod a+r BaalChIP -R && E:\biocbuild\bbs-3.21-bioc\R\bin\R.exe CMD build --keep-empty-dirs --no-resave-data BaalChIP StartedAt: 2025-02-09 17:18:25 -0500 (Sun, 09 Feb 2025) EndedAt: 2025-02-09 17:21:07 -0500 (Sun, 09 Feb 2025) EllapsedTime: 161.9 seconds RetCode: 0 Status: OK PackageFile: BaalChIP_1.33.0.tar.gz PackageFileSize: 44.75 MiB