Package: BaalChIP Version: 1.33.0 Command: E:\biocbuild\bbs-3.21-bioc\R\bin\R.exe CMD check --no-multiarch --install=check:BaalChIP.install-out.txt --library=E:\biocbuild\bbs-3.21-bioc\R\library --no-vignettes --timings BaalChIP_1.33.0.tar.gz StartedAt: 2025-02-09 22:44:08 -0500 (Sun, 09 Feb 2025) EndedAt: 2025-02-09 22:55:09 -0500 (Sun, 09 Feb 2025) EllapsedTime: 660.9 seconds RetCode: 0 Status: WARNINGS CheckDir: BaalChIP.Rcheck Warnings: 1