Package: Banksy Version: 1.3.0 Command: /Library/Frameworks/R.framework/Resources/bin/R CMD build --keep-empty-dirs --no-resave-data Banksy StartedAt: 2025-02-04 15:36:09 -0500 (Tue, 04 Feb 2025) EndedAt: 2025-02-04 15:57:30 -0500 (Tue, 04 Feb 2025) EllapsedTime: 1280.7 seconds RetCode: 0 Status: OK PackageFile: Banksy_1.3.0.tar.gz PackageFileSize: 4.196 MiB