Package: Banksy Version: 1.3.0 Command: /home/biocbuild/R/R/bin/R CMD check --install=check:Banksy.install-out.txt --library=/home/biocbuild/R/R/site-library --no-vignettes --timings Banksy_1.3.0.tar.gz StartedAt: 2025-01-27 04:29:40 -0000 (Mon, 27 Jan 2025) EndedAt: 2025-01-27 04:34:18 -0000 (Mon, 27 Jan 2025) EllapsedTime: 278.2 seconds RetCode: 0 Status: OK CheckDir: Banksy.Rcheck Warnings: 0