Package: Banksy Version: 1.3.0 Command: rm -rf Banksy.buildbin-libdir && mkdir Banksy.buildbin-libdir && /Users/biocbuild/BBS/utils/build-universal.sh Banksy_1.3.0.tar.gz /Library/Frameworks/R.framework/Resources/bin/R Banksy.buildbin-libdir StartedAt: 2025-02-05 00:28:59 -0500 (Wed, 05 Feb 2025) EndedAt: 2025-02-05 00:29:36 -0500 (Wed, 05 Feb 2025) EllapsedTime: 36.9 seconds RetCode: 0 Status: OK PackageFile: Banksy_1.3.0.tgz PackageFileSize: 4.244 MiB