Package: Banksy Version: 1.3.0 Command: /Library/Frameworks/R.framework/Resources/bin/R CMD build --keep-empty-dirs --no-resave-data Banksy StartedAt: 2025-02-09 15:57:00 -0500 (Sun, 09 Feb 2025) EndedAt: 2025-02-09 16:21:34 -0500 (Sun, 09 Feb 2025) EllapsedTime: 1473.9 seconds RetCode: 0 Status: OK PackageFile: Banksy_1.3.0.tar.gz PackageFileSize: 4.19 MiB