Package: Banksy Version: 1.3.0 Command: /Library/Frameworks/R.framework/Resources/bin/R CMD check --install=check:Banksy.install-out.txt --library=/Library/Frameworks/R.framework/Resources/library --no-vignettes --timings Banksy_1.3.0.tar.gz StartedAt: 2025-02-09 19:08:58 -0500 (Sun, 09 Feb 2025) EndedAt: 2025-02-09 19:13:09 -0500 (Sun, 09 Feb 2025) EllapsedTime: 251.0 seconds RetCode: 0 Status: OK CheckDir: Banksy.Rcheck Warnings: 0