Package: Banksy Version: 1.3.0 Command: /home/biocbuild/bbs-3.21-bioc/R/bin/R CMD INSTALL Banksy StartedAt: 2025-02-09 15:19:52 -0500 (Sun, 09 Feb 2025) EndedAt: 2025-02-09 15:20:18 -0500 (Sun, 09 Feb 2025) EllapsedTime: 26.0 seconds RetCode: 0 Status: OK