Package: Banksy Version: 1.3.0 Command: rm -rf Banksy.buildbin-libdir && mkdir Banksy.buildbin-libdir && E:\biocbuild\bbs-3.21-bioc\R\bin\R.exe CMD INSTALL --build --library=Banksy.buildbin-libdir Banksy_1.3.0.tar.gz StartedAt: 2025-02-10 07:14:58 -0500 (Mon, 10 Feb 2025) EndedAt: 2025-02-10 07:15:41 -0500 (Mon, 10 Feb 2025) EllapsedTime: 43.5 seconds RetCode: 0 Status: OK PackageFile: Banksy_1.3.0.zip PackageFileSize: 3.796 MiB