Package: Banksy Version: 1.3.0 Command: chmod a+r Banksy -R && E:\biocbuild\bbs-3.21-bioc\R\bin\R.exe CMD build --keep-empty-dirs --no-resave-data Banksy StartedAt: 2025-02-04 17:16:55 -0500 (Tue, 04 Feb 2025) EndedAt: 2025-02-04 17:27:13 -0500 (Tue, 04 Feb 2025) EllapsedTime: 617.4 seconds RetCode: 0 Status: OK PackageFile: Banksy_1.3.0.tar.gz PackageFileSize: 4.167 MiB