Package: BaseSpaceR Version: 1.51.0 Command: rm -rf BaseSpaceR.buildbin-libdir && mkdir BaseSpaceR.buildbin-libdir && /Users/biocbuild/BBS/utils/build-universal.sh BaseSpaceR_1.51.0.tar.gz /Library/Frameworks/R.framework/Resources/bin/R BaseSpaceR.buildbin-libdir StartedAt: 2025-02-03 22:42:17 -0500 (Mon, 03 Feb 2025) EndedAt: 2025-02-03 22:42:21 -0500 (Mon, 03 Feb 2025) EllapsedTime: 4.1 seconds RetCode: 0 Status: OK PackageFile: BaseSpaceR_1.51.0.tgz PackageFileSize: 750.7 KiB